BEGIN:VCALENDAR
VERSION:2.0
PRODID:-//wp-events-plugin.com//7.0.5//EN
TZID:Asia/Tokyo
X-WR-TIMEZONE:Asia/Tokyo
BEGIN:VEVENT
UID:1@kunkasha-fukushima.com
DTSTART;TZID=Asia/Tokyo:20250812T000000
DTEND;TZID=Asia/Tokyo:20250930T000000
DTSTAMP:20250812T041307Z
URL:https://kunkasha-fukushima.com/events/%e7%99%ba%e9%81%94%e9%9a%9c%e5%a
 e%b3%e3%81%a7%e3%81%aa%e3%81%8f%e3%81%aa%e3%82%8b%e3%81%a8%e3%81%84%e3%81%
 86%e3%81%93%e3%81%a8%ef%bd%9e%e6%96%b0%e3%81%97%e3%81%84%e3%83%91%e3%83%a9
 %e3%83%80%e3%82%a4/
SUMMARY:発達障害でなくなるということ～新しいパラダイ
 ムへ～
DESCRIPTION:現在は動画配信をおこなっており、配信終了日
 は2025年9月末日です。\n\n\n\n\n
LOCATION:https://kunkasha-fukushima.com/7%e6%9c%8821%e6%97%a5-%e8%ac%9b%e6%
 bc%94%e4%bc%9a-%e5%8b%95%e7%94%bb%e9%85%8d%e4%bf%a1%e9%96%8b%e5%a7%8b%e3%8
 1%ae%e3%81%8a%e7%9f%a5%e3%82%89%e3%81%9b/
END:VEVENT
BEGIN:VTIMEZONE
TZID:Asia/Tokyo
X-LIC-LOCATION:Asia/Tokyo
BEGIN:STANDARD
DTSTART:20240812T000000
TZOFFSETFROM:+0900
TZOFFSETTO:+0900
TZNAME:JST
END:STANDARD
END:VTIMEZONE
END:VCALENDAR